BEGIN:VCALENDAR
VERSION:2.0
PRODID:-//ChamberMaster//Event Calendar 2.0//EN
METHOD:PUBLISH
X-PUBLISHED-TTL:P3D
REFRESH-INTERVAL:P3D
CALSCALE:GREGORIAN
BEGIN:VEVENT
DTSTART:20210430T200000Z
DTEND:20210430T203000Z
X-MICROSOFT-CDO-ALLDAYEVENT:FALSE
SUMMARY:Ribbon Cutting - On Edge Studio
DESCRIPTION:Please join us at a ribbon cutting for new member\, On Edge Studio
X-ALT-DESC;FMTTYPE=text/html:Please join us at a ribbon cutting for new member\, On Edge Studio&nbsp\;&nbsp\;&nbsp\;&nbsp\;&nbsp\;&nbsp\;&nbsp\;&nbsp\;&nbsp\;&nbsp\;&nbsp\;&nbsp\;
LOCATION:6401 TX - 317\, Ste. C Temple
UID:e.300.16017
SEQUENCE:3
DTSTAMP:20260421T134436Z
URL:https://business.beltonchamber.com/events/details/ribbon-cutting-on-edge-studio-16017
END:VEVENT

END:VCALENDAR
