BEGIN:VCALENDAR
VERSION:2.0
PRODID:-//ChamberMaster//Event Calendar 2.0//EN
METHOD:PUBLISH
X-PUBLISHED-TTL:P3D
REFRESH-INTERVAL:P3D
CALSCALE:GREGORIAN
BEGIN:VEVENT
DTSTART:20191010T190000Z
DTEND:20191010T193000Z
X-MICROSOFT-CDO-ALLDAYEVENT:FALSE
SUMMARY:Ribbon Cutting/Open House - Cedar Crest Hospital and RTC
DESCRIPTION:Please join us at Cedar Crest Hospital and RTC for their open house on Thursday\, October 10 from 12:30 pm to 4:00 pm.  At 2:00 pm we will have a ribbon cutting to showcase their new RTC (residential treatment center) unit for adolescent girls.
X-ALT-DESC;FMTTYPE=text/html:Please join us at&nbsp\;Cedar Crest Hospital and RTC for their open house on Thursday\, October 10 from 12:30 pm to 4:00 pm.&nbsp\; At 2:00 pm we will have a ribbon cutting to showcase their new RTC (residential treatment center) unit for adolescent girls.&nbsp\;
LOCATION:3500 S IH 35 - Belton
UID:e.300.15144
SEQUENCE:3
DTSTAMP:20260422T164529Z
URL:https://business.beltonchamber.com/events/details/ribbon-cutting-open-house-cedar-crest-hospital-and-rtc-15144
END:VEVENT

END:VCALENDAR
