BEGIN:VCALENDAR
VERSION:2.0
PRODID:-//ChamberMaster//Event Calendar 2.0//EN
METHOD:PUBLISH
X-PUBLISHED-TTL:P3D
REFRESH-INTERVAL:P3D
CALSCALE:GREGORIAN
BEGIN:VEVENT
DTSTART:20211217T220000Z
DTEND:20211218T000000Z
X-MICROSOFT-CDO-ALLDAYEVENT:FALSE
SUMMARY:Ribbon Cutting & Open House for Body Mind & Spine
DESCRIPTION:Please join us at a ribbon cutting & open house for Body\, Mind & Spine.
X-ALT-DESC;FMTTYPE=text/html:<span style="font-size:16px\;"><span style="color:#000000\;"><strong>Please join us at a ribbon cutting &amp\; open house for <em>Body\, Mind &amp\; Spine.</em></strong></span></span>
LOCATION:9325 Tarver Drive\, Unit C102 Temple\, 76502
UID:e.300.16078
SEQUENCE:3
DTSTAMP:20260421T152953Z
URL:https://business.beltonchamber.com/events/details/ribbon-cutting-open-house-for-body-mind-spine-16078
END:VEVENT

END:VCALENDAR
