BEGIN:VCALENDAR
VERSION:2.0
PRODID:-//ChamberMaster//Event Calendar 2.0//EN
METHOD:PUBLISH
X-PUBLISHED-TTL:P3D
REFRESH-INTERVAL:P3D
CALSCALE:GREGORIAN
BEGIN:VEVENT
DTSTART:20210410T153000Z
DTEND:20210410T160000Z
X-MICROSOFT-CDO-ALLDAYEVENT:FALSE
SUMMARY:Ribbon Cutting - Razzle Dazzle
DESCRIPTION:Please join us at a ribbon cutting for new member\, Razzle Dazzle Specialty Shoppe.
X-ALT-DESC;FMTTYPE=text/html:Please join us at a ribbon cutting for new member\, Razzle Dazzle Specialty Shoppe.&nbsp\; &nbsp\;&nbsp\;
LOCATION:110 E. Central Ave. Belton\, TX 76513
UID:e.300.16012
SEQUENCE:3
DTSTAMP:20260421T134517Z
URL:https://business.beltonchamber.com/events/details/ribbon-cutting-razzle-dazzle-16012
END:VEVENT

END:VCALENDAR
