BEGIN:VCALENDAR
VERSION:2.0
PRODID:-//ChamberMaster//Event Calendar 2.0//EN
METHOD:PUBLISH
X-PUBLISHED-TTL:P3D
REFRESH-INTERVAL:P3D
CALSCALE:GREGORIAN
BEGIN:VEVENT
DTSTART:20210908T210000Z
DTEND:20210908T213000Z
X-MICROSOFT-CDO-ALLDAYEVENT:FALSE
SUMMARY:Ribbon Cutting & Reopening of Laura Mae's Resale Shop at Helping Hands Ministry of Belton
DESCRIPTION:Please join us for a ribbon cutting and reopening of Laura Mae's Resale Shop at Helping Hands Ministry of Belton.
X-ALT-DESC;FMTTYPE=text/html:Please join us for a ribbon cutting and reopening of Laura Mae&#39\;s Resale Shop at Helping Hands Ministry of Belton.
LOCATION:2210 Holland Road Belton
UID:e.300.16055
SEQUENCE:3
DTSTAMP:20260421T192927Z
URL:https://business.beltonchamber.com/events/details/ribbon-cutting-reopening-of-laura-mae-s-resale-shop-at-helping-hands-ministry-of-belton-16055
END:VEVENT

END:VCALENDAR
