BEGIN:VCALENDAR
VERSION:2.0
PRODID:-//ChamberMaster//Event Calendar 2.0//EN
METHOD:PUBLISH
X-PUBLISHED-TTL:P3D
REFRESH-INTERVAL:P3D
CALSCALE:GREGORIAN
BEGIN:VEVENT
DTSTART:20210810T213000Z
DTEND:20210810T220000Z
X-MICROSOFT-CDO-ALLDAYEVENT:FALSE
SUMMARY:Ribbon Cutting - State Farm / Veronica Logan
DESCRIPTION:Please join us at a ribbon cutting for State Farm - Veronica Logan
X-ALT-DESC;FMTTYPE=text/html:Please join us at a ribbon cutting for State Farm - Veronica Logan
LOCATION:608 S. Main Street Belton
UID:e.300.16050
SEQUENCE:3
DTSTAMP:20260421T205530Z
URL:https://business.beltonchamber.com/events/details/ribbon-cutting-state-farm-veronica-logan-16050
END:VEVENT

END:VCALENDAR
