BEGIN:VCALENDAR
VERSION:2.0
PRODID:-//ChamberMaster//Event Calendar 2.0//EN
METHOD:PUBLISH
X-PUBLISHED-TTL:P3D
REFRESH-INTERVAL:P3D
CALSCALE:GREGORIAN
BEGIN:VEVENT
DTSTART:20220126T190000Z
DTEND:20220126T193000Z
X-MICROSOFT-CDO-ALLDAYEVENT:FALSE
SUMMARY:Ribbon Cutting - Sweet Rolled Tacos
DESCRIPTION:Please join us at a ribbon cutting for Sweet Rolled Tacos!
X-ALT-DESC;FMTTYPE=text/html:<span style="font-size:14px\;"><span style="font-family:verdana\;"><strong>Please join us at a ribbon cutting for Sweet Rolled Tacos!</strong></span></span>
LOCATION:2511 N Main St Suite 112 Belton\, TX 7651
UID:e.300.16084
SEQUENCE:3
DTSTAMP:20260424T055458Z
URL:https://business.beltonchamber.com/events/details/ribbon-cutting-sweet-rolled-tacos-16084
END:VEVENT

END:VCALENDAR
