BEGIN:VCALENDAR
VERSION:2.0
PRODID:-//ChamberMaster//Event Calendar 2.0//EN
METHOD:PUBLISH
X-PUBLISHED-TTL:P3D
REFRESH-INTERVAL:P3D
CALSCALE:GREGORIAN
BEGIN:VEVENT
DTSTART:20210426T200000Z
DTEND:20210426T220000Z
X-MICROSOFT-CDO-ALLDAYEVENT:FALSE
SUMMARY:Ribbon Cutting - The Backyard at Spare Time Texas
DESCRIPTION:Please join us for a Ribbon Cutting and behind the scenes look at Spare Time's the new edition called\, The Backyard.
X-ALT-DESC;FMTTYPE=text/html:<span style="font-family:century gothic\,sans-serif\;">Please join us for a Ribbon Cutting and behind the scenes look at Spare Time&rsquo\;s the new edition called\, The Backyard.&nbsp\;&nbsp\;</span>
LOCATION:Spare Time Texas 5435 205 Loop Temple\, TX
UID:e.300.16024
SEQUENCE:3
DTSTAMP:20260421T162928Z
URL:https://business.beltonchamber.com/events/details/ribbon-cutting-the-backyard-at-spare-time-texas-16024
END:VEVENT

END:VCALENDAR
