BEGIN:VCALENDAR
VERSION:2.0
PRODID:-//ChamberMaster//Event Calendar 2.0//EN
METHOD:PUBLISH
X-PUBLISHED-TTL:P3D
REFRESH-INTERVAL:P3D
CALSCALE:GREGORIAN
BEGIN:VEVENT
DTSTART:20210416T210000Z
DTEND:20210416T213000Z
X-MICROSOFT-CDO-ALLDAYEVENT:FALSE
SUMMARY:Ribbon Cutting - The Retreat Therapeutic Massage
DESCRIPTION:Please join us in a ribbon cutting for our new member - The Retreat Therapeutic Massage.
X-ALT-DESC;FMTTYPE=text/html:Please join us in a ribbon cutting for our new member - The Retreat Therapeutic Massage.
LOCATION:They are located at 2150 N Main Street\, Belton.
UID:e.300.16016
SEQUENCE:3
DTSTAMP:20260421T135909Z
URL:https://business.beltonchamber.com/events/details/ribbon-cutting-the-retreat-therapeutic-massage-16016
END:VEVENT

END:VCALENDAR
