BEGIN:VCALENDAR
VERSION:2.0
PRODID:-//ChamberMaster//Event Calendar 2.0//EN
METHOD:PUBLISH
X-PUBLISHED-TTL:P3D
REFRESH-INTERVAL:P3D
CALSCALE:GREGORIAN
BEGIN:VEVENT
DTSTART:20210527T143000Z
DTEND:20210527T150000Z
X-MICROSOFT-CDO-ALLDAYEVENT:FALSE
SUMMARY:Ribbon Cutting - Zoe Books of Life
DESCRIPTION:Please join us for a ribbon cutting for Zoe Books of Life.
X-ALT-DESC;FMTTYPE=text/html:Please join us for a ribbon cutting for Zoe Books of Life.
LOCATION:Chamber Office 412 E. Central Ave Belton\, Texas
UID:e.300.16042
SEQUENCE:3
DTSTAMP:20260421T124153Z
URL:https://business.beltonchamber.com/events/details/ribbon-cutting-zoe-books-of-life-16042
END:VEVENT

END:VCALENDAR
