BEGIN:VCALENDAR
VERSION:2.0
PRODID:-//ChamberMaster//Event Calendar 2.0//EN
METHOD:PUBLISH
X-PUBLISHED-TTL:P3D
REFRESH-INTERVAL:P3D
CALSCALE:GREGORIAN
BEGIN:VEVENT
DTSTART:20211112T003000Z
DTEND:20211112T003000Z
X-MICROSOFT-CDO-ALLDAYEVENT:FALSE
SUMMARY:Sharing a Future and a Hope! Hope For The Hungry's 29th Anniversary
DESCRIPTION:https://www.hopeforthehungry.org/39
X-ALT-DESC;FMTTYPE=text/html:<a href="https://www.hopeforthehungry.org/39">https://www.hopeforthehungry.org/39</a>
LOCATION:
UID:e.300.16054
SEQUENCE:3
DTSTAMP:20260421T070041Z
URL:https://business.beltonchamber.com/events/details/sharing-a-future-and-a-hope-hope-for-the-hungry-s-29th-anniversary-16054
END:VEVENT

END:VCALENDAR
