BEGIN:VCALENDAR
VERSION:2.0
PRODID:-//ChamberMaster//Event Calendar 2.0//EN
METHOD:PUBLISH
X-PUBLISHED-TTL:P3D
REFRESH-INTERVAL:P3D
CALSCALE:GREGORIAN
BEGIN:VEVENT
DTSTART;VALUE=DATE:20210313
DTEND;VALUE=DATE:20210425
TRANSP:TRANSPARENT
X-MICROSOFT-CDO-ALLDAYEVENT:TRUE
SUMMARY:SHRM LEARNING SYSTEMS (SHRM CERTIFICATION PREPARATION)
DESCRIPTION:HRPO 2030 / CEUs: 4.0 / $1\,429 /\n\nOrientation: Thursday\, March 11 / 6   8 p.m.\n\nFollowed by six\, six-hour Saturday sessions:\n\nMarch 13\, 20\, and 27 / April 10\, 17\, and 24\n\nFinal: Thursday\, April 29\, 6 - 8 p.m.\n\nRegister by Friday\, February 26\, to avoid a $75 late fee.\n\n\n\nThe SHRM Learning System certification preparation course focuses on identifying and testing the knowledge and practical real-life experiences HR professionals around the world need to excel in their careers today. For those who qualify\, earning your SHRM Certified Professional (SHRM-CP ) or SHRM Senior Certified Professional (SHRM-SCP ) credential establishes you as a recognized expert in the HR field. The SHRM Learning System also is open to those not seeking certification. This course provides a comprehensive and accelerated option for professional development.
X-ALT-DESC;FMTTYPE=text/html:<strong>HRPO 2030 / CEUs: 4.0 / $1\,429 /<br />\n<em>Orientation: Thursday\, March 11 / 6 &ndash\; 8 p.m.</em><br />\nFollowed by six\, six-hour Saturday sessions:<br />\nMarch 13\, 20\, and 27 / April 10\, 17\, and 24<br />\n<em>Final: Thursday\, April 29\, 6 - 8 p.m.</em><br />\n<em>Register by Friday\, February 26\, to avoid a $75 late fee.</em></strong><br />\n<br />\nThe SHRM Learning System certification preparation course focuses on identifying and testing the knowledge and practical real-life experiences HR professionals around the world need to excel in their careers today. For those who qualify\, earning your SHRM Certified Professional (SHRM-CP&trade\;) or SHRM Senior Certified Professional (SHRM-SCP&trade\;) credential establishes you as a recognized expert in the HR field. The SHRM Learning System also is open to those not seeking certification. This course provides a comprehensive and accelerated option for professional development.
LOCATION:
UID:e.300.15667
SEQUENCE:3
DTSTAMP:20260421T135654Z
URL:https://business.beltonchamber.com/events/details/shrm-learning-systems-shrm-certification-preparation-03-13-2021-15667
END:VEVENT

END:VCALENDAR
