BEGIN:VCALENDAR
VERSION:2.0
PRODID:-//ChamberMaster//Event Calendar 2.0//EN
METHOD:PUBLISH
X-PUBLISHED-TTL:P3D
REFRESH-INTERVAL:P3D
CALSCALE:GREGORIAN
BEGIN:VEVENT
DTSTART:20250426T000000Z
DTEND:20250426T020000Z
X-MICROSOFT-CDO-ALLDAYEVENT:FALSE
SUMMARY:Sing Along Bingo at Bold Republic
DESCRIPTION:Join us for the best night in town. This week's theme is "Boy Bands"...you are my fire...my one desire..... Singing along IS encouraged!
X-ALT-DESC;FMTTYPE=text/html:<span style="font-family:verdana\;"><span style="font-size:20px\;"><span style="color: rgb(8\, 8\, 9)\;">Join us for the best night in town. This week&#39\;s theme is &quot\;Boy Bands&quot\;...you are my fire...my one desire..... Singing along IS encouraged!</span></span></span>
LOCATION:Bold Republic Brewing Company 7070 Stone Hollow Drive Temple\, TX
UID:e.300.18404
SEQUENCE:3
DTSTAMP:20260421T195518Z
URL:https://business.beltonchamber.com/events/details/sing-along-bingo-at-bold-republic-18404
END:VEVENT

END:VCALENDAR
