BEGIN:VCALENDAR
VERSION:2.0
PRODID:-//ChamberMaster//Event Calendar 2.0//EN
METHOD:PUBLISH
X-PUBLISHED-TTL:P3D
REFRESH-INTERVAL:P3D
CALSCALE:GREGORIAN
BEGIN:VEVENT
DTSTART:20250329T170000Z
DTEND:20250329T230000Z
X-MICROSOFT-CDO-ALLDAYEVENT:FALSE
SUMMARY:Sip & Shop at BeeMaRosa
DESCRIPTION:Come enjoy BeeMaRosa wines and stroll among the local artisans and vendors on our lawn selling their wares!
X-ALT-DESC;FMTTYPE=text/html:<span style="color: rgb(8\, 8\, 9)\; font-family: Arial\, Verdana\, Helvetica\, sans-serif\; font-size: 20px\; text-align: center\;">Come enjoy BeeMaRosa wines and stroll among the local artisans and vendors on our lawn selling their wares!</span>
LOCATION:204 E Loop 121\, Belton\, TX 76513
UID:e.300.18198
SEQUENCE:3
DTSTAMP:20260421T211545Z
URL:https://business.beltonchamber.com/events/details/sip-shop-at-beemarosa-18198
END:VEVENT

END:VCALENDAR
