BEGIN:VCALENDAR
VERSION:2.0
PRODID:-//ChamberMaster//Event Calendar 2.0//EN
METHOD:PUBLISH
X-PUBLISHED-TTL:P3D
REFRESH-INTERVAL:P3D
CALSCALE:GREGORIAN
BEGIN:VEVENT
DTSTART:20250308T230000Z
DTEND:20250309T010000Z
X-MICROSOFT-CDO-ALLDAYEVENT:FALSE
SUMMARY:Smok'n for JT's Recovery Fundraiser at Creekside Cigar Lounge
DESCRIPTION:EVENT: Fundraiser Saturday\, March 8th\n\nMust be 21+ to attend\n\nSmok'n for JT's Recovery!\n\nWe will have a smoker in the backyard and offering plates of good food for a $10 donation\, beer for a donation also.\n\nBring a NEW BOTTLE to donate for the bottle raffle.\n\nAll donations will go to JT & his family.\n\nPurchase a good cigar and together\, let's\n\nPut Some Smoke in the Air for JT!
X-ALT-DESC;FMTTYPE=text/html:<div class="xdj266r x11i5rnm xat24cr x1mh8g0r x1vvkbs" style="margin: 0px\; overflow-wrap: break-word\; font-family: &quot\;Segoe UI Historic&quot\;\, &quot\;Segoe UI&quot\;\, Helvetica\, Arial\, sans-serif\; color: rgb(8\, 8\, 9)\; font-size: 15px\;"><span style="font-size:20px\;">EVENT: Fundraiser Saturday\, March 8th<br class="html-br" />\nMust be 21+ to attend</span></div>\n\n<div class="x11i5rnm xat24cr x1mh8g0r x1vvkbs xtlvy1s" style="margin: 0.5em 0px 0px\; overflow-wrap: break-word\; font-family: &quot\;Segoe UI Historic&quot\;\, &quot\;Segoe UI&quot\;\, Helvetica\, Arial\, sans-serif\; color: rgb(8\, 8\, 9)\; font-size: 15px\;"><span style="font-size:20px\;">Smok&#39\;n for JT&#39\;s Recovery!<br class="html-br" />\nWe will have a smoker in the backyard and offering plates of good food for a $10 donation\, beer for a donation also.</span></div>\n\n<div class="x11i5rnm xat24cr x1mh8g0r x1vvkbs xtlvy1s" style="margin: 0.5em 0px 0px\; overflow-wrap: break-word\; font-family: &quot\;Segoe UI Historic&quot\;\, &quot\;Segoe UI&quot\;\, Helvetica\, Arial\, sans-serif\; color: rgb(8\, 8\, 9)\; font-size: 15px\;"><span style="font-size:20px\;">Bring a NEW BOTTLE to donate for the bottle raffle.</span></div>\n\n<div class="x11i5rnm xat24cr x1mh8g0r x1vvkbs xtlvy1s" style="margin: 0.5em 0px 0px\; overflow-wrap: break-word\; font-family: &quot\;Segoe UI Historic&quot\;\, &quot\;Segoe UI&quot\;\, Helvetica\, Arial\, sans-serif\; color: rgb(8\, 8\, 9)\; font-size: 15px\;"><span style="font-size:20px\;">All donations will go to JT &amp\; his family.</span></div>\n\n<div class="x11i5rnm xat24cr x1mh8g0r x1vvkbs xtlvy1s" style="margin: 0.5em 0px 0px\; overflow-wrap: break-word\; font-family: &quot\;Segoe UI Historic&quot\;\, &quot\;Segoe UI&quot\;\, Helvetica\, Arial\, sans-serif\; color: rgb(8\, 8\, 9)\; font-size: 15px\;"><span style="font-size:20px\;">Purchase a good cigar and together\, let&#39\;s<br class="html-br" />\nPut Some Smoke in the Air for JT!</span></div>\n
LOCATION:602 E. Central Ave Belton\, TX 76513
UID:e.300.18159
SEQUENCE:3
DTSTAMP:20260421T212149Z
URL:https://business.beltonchamber.com/events/details/smok-n-for-jt-s-recovery-fundraiser-at-creekside-cigar-lounge-18159
END:VEVENT

END:VCALENDAR
