BEGIN:VCALENDAR
VERSION:2.0
PRODID:-//ChamberMaster//Event Calendar 2.0//EN
METHOD:PUBLISH
X-PUBLISHED-TTL:P3D
REFRESH-INTERVAL:P3D
CALSCALE:GREGORIAN
BEGIN:VEVENT
DTSTART:20241222T013000Z
DTEND:20241222T030000Z
X-MICROSOFT-CDO-ALLDAYEVENT:FALSE
SUMMARY:Sounds of the Season ~ Temple Symphony Orchestra
DESCRIPTION:Enjoy excerpts from The Nutcracker\, A Christmas Carol\, and More!
X-ALT-DESC;FMTTYPE=text/html:<strong><span style="font-size:20px\;"><span style="color: rgb(8\, 8\, 9)\; font-family: &quot\;Segoe UI Historic&quot\;\, &quot\;Segoe UI&quot\;\, Helvetica\, Arial\, sans-serif\;">Enjoy excerpts from The Nutcracker\, A Christmas Carol\, and More!</span></span></strong>
LOCATION:Mary Alice Marshall Performing Arts Center at Temple College 1500 S. 5th Street Temple
UID:e.300.18102
SEQUENCE:3
DTSTAMP:20260422T025609Z
URL:https://business.beltonchamber.com/events/details/sounds-of-the-season-temple-symphony-orchestra-18102
END:VEVENT

END:VCALENDAR
