BEGIN:VCALENDAR
VERSION:2.0
PRODID:-//ChamberMaster//Event Calendar 2.0//EN
METHOD:PUBLISH
X-PUBLISHED-TTL:P3D
REFRESH-INTERVAL:P3D
CALSCALE:GREGORIAN
BEGIN:VEVENT
DTSTART:20191225T170000Z
DTEND:20191225T210000Z
X-MICROSOFT-CDO-ALLDAYEVENT:FALSE
SUMMARY:Stagecoach Inn Xmas Brunch
DESCRIPTION:It's the most wonderful time of the year\, and Stagecoach Inn wants to celebrate the holidays with you and your loved ones during their Christmas Day Brunch. Gather your family and take the scenic route to historic Salado for a delicious spread at the Stagecoach Inn's iconic restaurant. The holiday brunch will feature a decadent buffet including classic staples such as the Niman Ranch Bone-In Ham with all the fixings\, and\, of course\, seasonal confections and other delectable delights.
X-ALT-DESC;FMTTYPE=text/html:<span style="color:black\;"><span style="font-family:avenirnext-regular\,serif\;">It&#39\;s the most wonderful time of the year\, and&nbsp\;<a data-saferedirecturl="https://www.google.com/url?q=https://www.stagecoachsalado.com/&amp\;source=gmail&amp\;ust=1575570870008000&amp\;usg=AFQjCNEcwDyYK0sBatki-Wo1eYMtaoJ6dA" href="https://www.stagecoachsalado.com/" style="font-style:inherit\;font-variant-caps:inherit\;font-stretch:inherit\;line-height:inherit\;" target="_blank"><span style="border:none windowtext 1.0pt\;padding:0in\;text-decoration:none\;text-underline:none\;">Stagecoach Inn</span></a>&nbsp\;wants to celebrate the holidays with you and your loved ones during their Christmas Day Brunch. Gather your family and take the scenic route to historic Salado for a delicious spread at the&nbsp\;<a data-saferedirecturl="https://www.google.com/url?q=https://www.stagecoachsalado.com/stagecoach-inn-dining-restaurant&amp\;source=gmail&amp\;ust=1575570870008000&amp\;usg=AFQjCNF6IVkYoRe0lpxw1FNVVul-pnP0CQ" href="https://www.stagecoachsalado.com/stagecoach-inn-dining-restaurant" style="font-style:inherit\;font-variant-caps:inherit\;font-stretch:inherit\;line-height:inherit\;" target="_blank"><span style="border:none windowtext 1.0pt\;padding:0in\;text-decoration:none\;text-underline:none\;">Stagecoach Inn&#39\;s iconic restaurant.</span></a>&nbsp\;The holiday brunch will feature a decadent buffet including classic staples such as the Niman Ranch Bone-In Ham with all the fixings\, and\, of course\, seasonal confections and other delectable delights.</span></span><br />\n<br />\n&nbsp\;
LOCATION:Stagecoach Inn 412 S Main Street Salado\, TX 76571
UID:e.300.15274
SEQUENCE:3
DTSTAMP:20260422T124155Z
URL:https://business.beltonchamber.com/events/details/stagecoach-inn-xmas-brunch-15274
END:VEVENT

END:VCALENDAR
