BEGIN:VCALENDAR
VERSION:2.0
PRODID:-//ChamberMaster//Event Calendar 2.0//EN
METHOD:PUBLISH
X-PUBLISHED-TTL:P3D
REFRESH-INTERVAL:P3D
CALSCALE:GREGORIAN
BEGIN:VEVENT
DTSTART:20241214T150000Z
DTEND:20241214T160000Z
X-MICROSOFT-CDO-ALLDAYEVENT:FALSE
SUMMARY:Synergy Nutrition Consulting ~ Community Walk
DESCRIPTION:We are back with our second monthly community walk! And get excited because this month's walk is Christmas themed!! Wear your favorite Christmas-themed outfits/accessories to get in the Christmas spirit \n\nWe will be meeting at Yettie Polk Park at 9am in Belton\, TX and walking along the Nolan Creek Nature Trail.\n\nPlan to expect:\n\n 45 minutes of walking on the gorgeous trail\n\n Meeting other like-minded friends\n\n Raffle prizes
X-ALT-DESC;FMTTYPE=text/html:<p align="center" style="margin: 0px\; padding: 0px\; color: rgb(62\, 62\, 62)\; font-family: Arial\, Verdana\, Helvetica\, sans-serif\; font-size: 14px\; text-align: center\;"><strong><span style="font-size:20px\;"><span style="color: rgb(8\, 8\, 9)\;">We are back with our second monthly community walk! And get excited because this month&#39\;s walk is Christmas themed!! Wear your favorite Christmas-themed outfits/accessories to get in the Christmas spirit&nbsp\;</span></span></strong></p>\n\n<p align="center" style="margin: 0px\; padding: 0px\; color: rgb(62\, 62\, 62)\; font-family: Arial\, Verdana\, Helvetica\, sans-serif\; font-size: 14px\; text-align: center\;"><strong><span style="font-size:20px\;"><span style="color: rgb(8\, 8\, 9)\;">We will be meeting at Yettie Polk Park at 9am in Belton\, TX and walking along the Nolan Creek Nature Trail.</span></span></strong></p>\n\n<p align="center" style="margin: 0px\; padding: 0px\; color: rgb(62\, 62\, 62)\; font-family: Arial\, Verdana\, Helvetica\, sans-serif\; font-size: 14px\; text-align: center\;"><strong><span style="font-size:20px\;"><span style="color: rgb(8\, 8\, 9)\;">Plan to expect:</span></span></strong></p>\n\n<p align="center" style="margin: 0px\; padding: 0px\; color: rgb(62\, 62\, 62)\; font-family: Arial\, Verdana\, Helvetica\, sans-serif\; font-size: 14px\; text-align: center\;"><strong><span style="font-size:20px\;"><span style="color: rgb(8\, 8\, 9)\;">&nbsp\;45 minutes of walking on the gorgeous trail</span></span></strong></p>\n\n<p align="center" style="margin: 0px\; padding: 0px\; color: rgb(62\, 62\, 62)\; font-family: Arial\, Verdana\, Helvetica\, sans-serif\; font-size: 14px\; text-align: center\;"><strong><span style="font-size:20px\;"><span style="color: rgb(8\, 8\, 9)\;">&nbsp\;Meeting other like-minded friends</span></span></strong></p>\n\n<p align="center" style="margin: 0px\; padding: 0px\; color: rgb(62\, 62\, 62)\; font-family: Arial\, Verdana\, Helvetica\, sans-serif\; font-size: 14px\; text-align: center\;"><strong><span style="font-size:20px\;"><span style="color: rgb(8\, 8\, 9)\;">&nbsp\;Raffle prizes</span></span></strong></p>\n
LOCATION:Yettie Polk Park 101 S. Davis Street Belton
UID:e.300.18099
SEQUENCE:3
DTSTAMP:20260422T025458Z
URL:https://business.beltonchamber.com/events/details/synergy-nutrition-consulting-community-walk-18099
END:VEVENT

END:VCALENDAR
