BEGIN:VCALENDAR
VERSION:2.0
PRODID:-//ChamberMaster//Event Calendar 2.0//EN
METHOD:PUBLISH
X-PUBLISHED-TTL:P3D
REFRESH-INTERVAL:P3D
CALSCALE:GREGORIAN
BEGIN:VEVENT
DTSTART:20200218T173000Z
DTEND:20200218T190000Z
X-MICROSOFT-CDO-ALLDAYEVENT:FALSE
SUMMARY:TAB Legislative Update Lunch
DESCRIPTION:Legislative Update Lunch.\n\nUpdates on Texas Legislature\, USMCA and what it means for Texas\, Federal issues and TAB priorities.\n\n\n\nFees: $25 per guest\, $150 table of 6 (both include lunch)\n\n\n\nGuest speaker\, Jeff Moseley\, Chief Executive O cer of the Texas Association of Business\n\n\n\nAbout Jeff Moseley\n\nJe  has four decades of public and private sector experience\, particularly in the transportation industry and economic development. Currently\, he serves as the Chief Executive O cer of the Texas Association of Business\, the largest business association in Texas\, the most in uential voice for\n\npublic policy issues a ecting business not just in Texas\, but nationally and internationally too.\n\n\n\nMost recently\, he served as state Vice President of Government A airs for Texas Central Partners LLC\, a private company developing a new high-speed rail system between Houston and Dallas/Fort Worth.\n\n\n\nBefore that\, Moseley was appointed by former Texas Governor Rick Perry   to the  ve-member Texas Transportation Commission\, which oversees the Texas Department of Transportation (TxDot) and a $12 billion annual budget.\n\n\n\nPreviously\, Moseley was President and Chief Executive O cer of the Greater Houston Partnership (GHP)\, the primary business organization for the 11-county Houston region. Under his leadership\, the GHP gained national recognition as a center for economic development and became the largest chamber of commerce in the Lone Star State.\n\n\n\nMoseley was also Chief Executive O cer of the O ce for Economic Development and Tourism for the state of Texas and served as the Executive Director of the Texas Department of Economic Development (formerly the Texas Department of Commerce) under Governor Bush. While serving as Executive Director\, Moseley reestablished formal trade missions to Mexico with an emphasis on oil and gas.\n\n\n\nMoseley was elected to county o ce and served as Denton County Judge and Justice of the Peace before joining the\n\nGovernor's o ce. He was elected to three terms as County Judge and managed to reduce the ad valorem tax rate while piloting one of the fastest growing counties in the nation. As a County Judge he also founded North America's Superhighway Coalition (NASCO)\, an advocacy group for a safer\, wider\, cleaner\, stronger Interstate 35 corridor\; members included rural\, urban\, bi-partisan elected o cials from Mexico.\n\n\n\nMoseley is a sixth generation Texan and graduate and Outstanding Alumnus of Southern Nazarene University in Oklahoma\, He is married to Jackie Barret of Comanche\, Texas and they have two daughters\, Joi and Jenni.
X-ALT-DESC;FMTTYPE=text/html:<div class="_63eu _63ev" style="box-sizing: border-box\; font-size: 14px\; max-height: none\; overflow: visible\; padding: 12px\; overflow-wrap: break-word\; font-family: Helvetica\, Arial\, sans-serif\; color: rgb(29\, 33\, 41)\;">\n<div class="_63ew" data-testid="event-permalink-details" style="white-space: pre-wrap\; font-family: inherit\;"><span style="font-family: inherit\;">Legislative Update Lunch.<br />\nUpdates on Texas Legislature\, USMCA and what it means for Texas\, Federal issues and TAB priorities.<br />\n<br />\nFees: $25 per guest\, $150 table of 6 (both include lunch)<br />\n<br />\nGuest speaker\, Jeff Moseley\, Chief Executive O&#64259\;cer of the Texas Association of Business<br />\n<br />\nAbout Jeff Moseley<br />\nJe&#64256\; has four decades of public and private sector experience\, particularly in the transportation industry and economic development. Currently\, he serves as the Chief Executive O&#64259\;cer of the Texas Association of Business\, the largest business association in Texas\, the most in&#64258\;uential voice for<br />\npublic policy issues a&#64256\;ecting business not just in Texas\, but nationally and internationally too.<br />\n<br />\nMost recently\, he served as state Vice President of Government A&#64256\;airs for Texas Central Partners LLC\, a private company developing a new high-speed rail system between Houston and Dallas/Fort Worth.<br />\n<br />\nBefore that\, Moseley was appointed by former Texas Governor Rick Perry &reg\; to the &#64257\;ve-member Texas Transportation Commission\, which oversees the Texas Department of Transportation (TxDot) and a $12 billion annual budget.<br />\n<br />\nPreviously\, Moseley was President and Chief Executive O&#64259\;cer of the Greater Houston Partnership (GHP)\, the primary business organization for the 11-county Houston region. Under his leadership\, the GHP gained national recognition as a center for economic development and became the largest chamber of commerce in the Lone Star State.<br />\n<br />\nMoseley was also Chief Executive O&#64259\;cer of the O&#64259\;ce for Economic Development and Tourism for the state of Texas and served as the Executive Director of the Texas Department of Economic Development (formerly the Texas Department of Commerce) under Governor Bush. While serving as Executive Director\, Moseley reestablished formal trade missions to Mexico with an emphasis on oil and gas.<br />\n<br />\nMoseley was elected to county o&#64259\;ce and served as Denton County Judge and Justice of the Peace before joining the<br />\nGovernor&rsquo\;s o&#64259\;ce. He was elected to three terms as County Judge and managed to reduce the ad valorem tax rate while piloting one of the fastest growing counties in the nation. As a County Judge he also founded North America&#39\;s Superhighway Coalition (NASCO)\, an advocacy group for a safer\, wider\, cleaner\, stronger Interstate 35 corridor\; members included rural\, urban\, bi-partisan elected o&#64259\;cials from Mexico.<br />\n<br />\nMoseley is a sixth generation Texan and graduate and Outstanding Alumnus of Southern Nazarene University in Oklahoma\, He is married to Jackie Barret of Comanche\, Texas and they have two daughters\, Joi and Jenni.</span></div>\n</div>\n\n<ul class="_63er" style="list-style-type: none\; margin: 0px\; padding: 12px 12px 8px\; color: rgb(29\, 33\, 41)\; font-family: Helvetica\, Arial\, sans-serif\; font-size: 12px\;"><br />\n	<li>&nbsp\;</li>\n</ul>\n
LOCATION:Bell County Expo Center 301 W Loop 121 Belton\, TX
UID:e.300.15276
SEQUENCE:3
DTSTAMP:20260422T101218Z
URL:https://business.beltonchamber.com/events/details/tab-legislative-update-lunch-15276
END:VEVENT

END:VCALENDAR
