BEGIN:VCALENDAR
VERSION:2.0
PRODID:-//ChamberMaster//Event Calendar 2.0//EN
METHOD:PUBLISH
X-PUBLISHED-TTL:P3D
REFRESH-INTERVAL:P3D
CALSCALE:GREGORIAN
BEGIN:VEVENT
DTSTART:20210405T220000Z
DTEND:20210405T230000Z
X-MICROSOFT-CDO-ALLDAYEVENT:FALSE
SUMMARY:Tacos & Tours
DESCRIPTION:Come join us at Level 3 for a tour of our worksite\, and listen to what we are all about and we will buy you a delicious taco from Arusha's Coffee & Tea! Be sure to come to the front of Level 3 FIRST!\n\nRegister for the event at
X-ALT-DESC;FMTTYPE=text/html:Come join us at Level 3 for a tour of our worksite\, and listen to what we are all about and we will buy you a delicious taco from Arusha&#39\;s Coffee &amp\; Tea!&nbsp\;<span style="color:rgb(41\, 43\, 44)\; font-family:source sans pro\,helvetica neue\,helvetica\,arial\,sans-serif\; font-size:14px">Be sure to come to the front of Level 3 FIRST!</span><br />\nRegister for the event at&nbsp\;
LOCATION:202 E Central Ave Belton\, TX 76513
UID:e.300.15441
SEQUENCE:3
DTSTAMP:20260421T134655Z
URL:https://business.beltonchamber.com/events/details/tacos-tours-04-05-2021-15441
END:VEVENT

END:VCALENDAR
