BEGIN:VCALENDAR
VERSION:2.0
PRODID:-//ChamberMaster//Event Calendar 2.0//EN
METHOD:PUBLISH
X-PUBLISHED-TTL:P3D
REFRESH-INTERVAL:P3D
CALSCALE:GREGORIAN
BEGIN:VEVENT
DTSTART:20250329T003000Z
DTEND:20250329T020000Z
X-MICROSOFT-CDO-ALLDAYEVENT:FALSE
SUMMARY:Temple College Jazz Fest
DESCRIPTION:Jazz Fest is an entertaining and educational weekend of outstanding jazz\, bringing together top professional artists\, clinicians\, and hundreds of college\, high school\, and junior high musicians for clinics\, competitions\, and unforgettable performances.\n\n \n\nThis year's featured artists are:\n\nAndre Hayward (Trombone) on March 28 at 7:30 PM\n\nSean Jones (Trumpet) on March 29 at 7:30 PM\n\n \n\nFind the entire event schedule at tcjazzfestival.com
X-ALT-DESC;FMTTYPE=text/html:<p align="center" style="margin: 0px\; padding: 0px\; color: rgb(62\, 62\, 62)\; font-family: Arial\, Verdana\, Helvetica\, sans-serif\; font-size: 14px\; text-align: center\;"><strong><span style="font-size:18px\;"><span style="color: rgb(8\, 8\, 9)\;">Jazz Fest is an entertaining and educational weekend of outstanding jazz\, bringing together top professional artists\, clinicians\, and hundreds of college\, high school\, and junior high musicians for clinics\, competitions\, and unforgettable performances.</span></span></strong></p>\n\n<p align="center" style="margin: 0px\; padding: 0px\; color: rgb(62\, 62\, 62)\; font-family: Arial\, Verdana\, Helvetica\, sans-serif\; font-size: 14px\; text-align: center\;">&nbsp\;</p>\n\n<p align="center" style="margin: 0px\; padding: 0px\; color: rgb(62\, 62\, 62)\; font-family: Arial\, Verdana\, Helvetica\, sans-serif\; font-size: 14px\; text-align: center\;"><strong><span style="font-size:18px\;"><span style="color: rgb(8\, 8\, 9)\;">This year&#39\;s featured artists are:</span></span></strong></p>\n\n<p align="center" style="margin: 0px\; padding: 0px\; color: rgb(62\, 62\, 62)\; font-family: Arial\, Verdana\, Helvetica\, sans-serif\; font-size: 14px\; text-align: center\;"><strong><span style="font-size:18px\;"><span style="color: rgb(8\, 8\, 9)\;">Andre Hayward (Trombone) on March 28 at 7:30 PM</span></span></strong></p>\n\n<p align="center" style="margin: 0px\; padding: 0px\; color: rgb(62\, 62\, 62)\; font-family: Arial\, Verdana\, Helvetica\, sans-serif\; font-size: 14px\; text-align: center\;"><strong><span style="font-size:18px\;"><span style="color: rgb(8\, 8\, 9)\;">Sean Jones (Trumpet) on March 29 at 7:30 PM</span></span></strong></p>\n\n<p align="center" style="margin: 0px\; padding: 0px\; color: rgb(62\, 62\, 62)\; font-family: Arial\, Verdana\, Helvetica\, sans-serif\; font-size: 14px\; text-align: center\;">&nbsp\;</p>\n\n<p align="center" style="margin: 0px\; padding: 0px\; color: rgb(62\, 62\, 62)\; font-family: Arial\, Verdana\, Helvetica\, sans-serif\; font-size: 14px\; text-align: center\;"><strong><span style="font-size:18px\;"><span style="color: rgb(8\, 8\, 9)\;">Find the entire event schedule at&nbsp\;</span><span style="color: rgb(8\, 8\, 9)\;">tcjazzfestival.com</span></span></strong></p>\n
LOCATION:Mary Alice Marshall Performing Arts Center
UID:e.300.18193
SEQUENCE:3
DTSTAMP:20260421T211932Z
URL:https://business.beltonchamber.com/events/details/temple-college-jazz-fest-18193
END:VEVENT

END:VCALENDAR
