BEGIN:VCALENDAR
VERSION:2.0
PRODID:-//ChamberMaster//Event Calendar 2.0//EN
METHOD:PUBLISH
X-PUBLISHED-TTL:P3D
REFRESH-INTERVAL:P3D
CALSCALE:GREGORIAN
BEGIN:VEVENT
DTSTART:20250228T143000Z
DTEND:20250228T160000Z
X-MICROSOFT-CDO-ALLDAYEVENT:FALSE
SUMMARY:Texas Association of Business - Legislative & Business Update
DESCRIPTION:Join us for a Legislative & Business Update from the Texas Association of Business (TAB)\n\nGuest Speaker Megan Mauro will be giving a presentation on the current 89th State Legislative Session and general business priorities. \n\n\n\nRSVP by Wed\, Feb. 26th! \n\nSeating is Limited
X-ALT-DESC;FMTTYPE=text/html:Join us for a Legislative &amp\; Business Update from the Texas Association of Business (TAB)<br />\nGuest Speaker Megan Mauro will be giving a presentation on the current 89th State Legislative Session and general business priorities.&nbsp\;<br />\n<br />\n<strong>RSVP by Wed\, Feb. 26th!&nbsp\;<br />\nSeating is Limited</strong><br />\n&nbsp\;
LOCATION:Harris Community Center - Kinchion Room 401 N Alexander St.\, Belton\, TX
UID:e.300.18157
SEQUENCE:3
DTSTAMP:20260422T001724Z
URL:https://business.beltonchamber.com/events/details/texas-association-of-business-legislative-business-update-18157
END:VEVENT

END:VCALENDAR
