BEGIN:VCALENDAR
VERSION:2.0
PRODID:-//ChamberMaster//Event Calendar 2.0//EN
METHOD:PUBLISH
X-PUBLISHED-TTL:P3D
REFRESH-INTERVAL:P3D
CALSCALE:GREGORIAN
BEGIN:VEVENT
DTSTART:20201126T170000Z
DTEND:20201126T220000Z
X-MICROSOFT-CDO-ALLDAYEVENT:FALSE
SUMMARY:Thanksgiving at the Stagecoach Inn in Salado\, Texas
DESCRIPTION:Thanksgiving at the Stagecoach Inn in Salado\, Texas\n\n \n\nThe Stagecoach Inn will serve an unforgettable Thanksgiving feast\, with a seated menu featuring traditional favorites and a few surprises\, too. For those wanting to celebrate at home\, the Stagecoach Inn will also offer Thanksgiving to-go.\n\n\n\nStagecoach Inn's Thanksgiving to-go will include items that are prepared to reheat in the oven\, or on the stovetop. The menu includes Turkey Breast with Brown Gravy\, Cornbread Stuffing\, Cheddar Chive Mac & Cheese\, Green Bean Casserole\, Mashed Potatoes\, Sweet Potato Casserole\, and Pumpkin Pie. The cost for 2 people is $90.00 + tax\; for 4 people $170.00 + tax\; and each additional person is an additional $40.00 + tax. Advance orders are now being accepted by phone (254-947-5111)\, and must be made by November 21st at 8pm. Orders can be picked up on Wednesday\, November 25th\, from 2pm to 5pm.\n\n \n\nFor more information about the Stagecoach Inn\, and to book a reservation\, call 254-947-5111 or visit www.StagecoachSalado.com.
X-ALT-DESC;FMTTYPE=text/html:<strong><span style="color:black\;"><span style="font-family:arial\,sans-serif\;">Thanksgiving at the Stagecoach Inn in Salado\, Texas</span></span></strong><br />\n&nbsp\;<br />\n<span style="color:black\;"><span style="font-family:arial\,sans-serif\;">The Stagecoach Inn will serve an unforgettable Thanksgiving feast\, with a seated menu featuring traditional favorites and a few surprises\, too. For those wanting to celebrate at home\, the Stagecoach Inn will also offer Thanksgiving to-go.</span></span><br />\n<br />\n<span style="color:black\;"><span style="font-family:arial\,sans-serif\;">Stagecoach Inn&rsquo\;s Thanksgiving to-go will include items that are prepared to reheat in the oven\, or on the stovetop. The menu includes Turkey Breast with Brown Gravy\, Cornbread Stuffing\, Cheddar Chive Mac &amp\; Cheese\, Green Bean Casserole\, Mashed Potatoes\, Sweet Potato Casserole\, and Pumpkin Pie.&nbsp\;The cost for 2 people is $90.00 + tax\; for 4 people $170.00 + tax\; and each additional person is an additional $40.00 + tax. Advance orders are now being accepted by phone (254-947-5111)\, and must be made by November 21st at 8pm. Orders can be picked up on Wednesday\, November 25th\, from 2pm to 5pm.</span></span><br />\n&nbsp\;<br />\n<span style="color:black\;"><span style="font-family:arial\,sans-serif\;">For more information about the Stagecoach Inn\, and to book a reservation\, call 254-947-5111 or visit&nbsp\;<a href="http://www.stagecoachsalado.com/" target="_blank">www.StagecoachSalado.com</a>.</span></span><br />\n&nbsp\;<br />\n&nbsp\;
LOCATION:Stagecoach Inn - Salado 416 Main Street Salado\, Texas 76571
UID:e.300.15419
SEQUENCE:3
DTSTAMP:20260421T214104Z
URL:https://business.beltonchamber.com/events/details/thanksgiving-at-the-stagecoach-inn-in-salado-texas-15419
END:VEVENT

END:VCALENDAR
