BEGIN:VCALENDAR
VERSION:2.0
PRODID:-//ChamberMaster//Event Calendar 2.0//EN
METHOD:PUBLISH
X-PUBLISHED-TTL:P3D
REFRESH-INTERVAL:P3D
CALSCALE:GREGORIAN
BEGIN:VEVENT
DTSTART:20200324T150000Z
DTEND:20200324T190000Z
X-MICROSOFT-CDO-ALLDAYEVENT:FALSE
SUMMARY:The 9 Strategies to Increase Your Revenue in 2020
DESCRIPTION:Lunch to be included with community networking!\n\n\n\nTickets Available at:\n\nwww.masternetworksstorefront.com\n\n\n\nhttps://www.facebook.com/groups/MNCTX/permalink/2501431560078251/
X-ALT-DESC;FMTTYPE=text/html:Lunch to be included with community networking!<br />\n<br />\nTickets Available at:<br />\nwww.masternetworksstorefront.com<br />\n<br />\n<a href="https://www.facebook.com/groups/MNCTX/permalink/2501431560078251/" style="color: rgb(17\, 85\, 204)\; font-family: Arial\, Helvetica\, sans-serif\; font-size: small\;" target="_blank">https://www.facebook.com/groups/MNCTX/permalink/2501431560078251/</a>
LOCATION:Harris Community Center 401 N Alexander Street Belton\, Texas 76513
UID:e.300.15373
SEQUENCE:3
DTSTAMP:20260421T083558Z
URL:https://business.beltonchamber.com/events/details/the-9-strategies-to-increase-your-revenue-in-2020-15373
END:VEVENT

END:VCALENDAR
