BEGIN:VCALENDAR
VERSION:2.0
PRODID:-//ChamberMaster//Event Calendar 2.0//EN
METHOD:PUBLISH
X-PUBLISHED-TTL:P3D
REFRESH-INTERVAL:P3D
CALSCALE:GREGORIAN
BEGIN:VEVENT
DTSTART:20200918T123000Z
DTEND:20200918T140000Z
X-MICROSOFT-CDO-ALLDAYEVENT:FALSE
SUMMARY:The Brew
DESCRIPTION:Networking event where you can enjoy a cup of coffee and enjoy conversating with new people.
X-ALT-DESC;FMTTYPE=text/html:Networking event where you can enjoy a cup of coffee and enjoy conversating with new people.&nbsp\;
LOCATION:Arusha's Coffee and Tea
UID:e.300.14132
SEQUENCE:3
DTSTAMP:20260422T113602Z
URL:https://business.beltonchamber.com/events/details/the-brew-09-18-2020-14132
END:VEVENT

END:VCALENDAR
