BEGIN:VCALENDAR
VERSION:2.0
PRODID:-//ChamberMaster//Event Calendar 2.0//EN
METHOD:PUBLISH
X-PUBLISHED-TTL:P3D
REFRESH-INTERVAL:P3D
CALSCALE:GREGORIAN
BEGIN:VEVENT
DTSTART:20250428T230000Z
DTEND:20250429T020000Z
X-MICROSOFT-CDO-ALLDAYEVENT:FALSE
SUMMARY:The Complete Twilight Saga
DESCRIPTION:Join us for all 5 Twilight Movies in a row the month of May\, complete with a Twilight themed menu\, ON SALE NOW! Tell us in the comments\, are you #TeamEdward or #TeamJacob?\n\nPlease reserve your seats in advance and show up 30 minutes early to avoid those pesky lines.\n\nhttp://779270.formovietickets.com:2235/\n\n4/28 - 5/3 Twilight (2008)\n\n5/5 - 5/10 The Twilight Sage: New Moon (2009)\n\n5/12 - 5/17 The Twilight Saga: Eclipse (2010)\n\n5/19 - 5/24 The Twilight Saga: Breaking Dawn - Part 1 (2011)\n\n5/26 - 5/31 The Twilight Saga: Breaking Dawn - Part 2 (2012)\n\n#Twilight\n\n#TwilightSaga\n\n#Movie\n\n#Movies\n\nSee you at the movies soon!!
X-ALT-DESC;FMTTYPE=text/html:<div class="xdj266r x11i5rnm xat24cr x1mh8g0r x1vvkbs" style="margin: 0px\; overflow-wrap: break-word\; font-family: &quot\;Segoe UI Historic&quot\;\, &quot\;Segoe UI&quot\;\, Helvetica\, Arial\, sans-serif\; color: rgb(8\, 8\, 9)\; font-size: 15px\;"><span style="font-size:20px\;">Join us for all 5 Twilight Movies in a row the month of May\, complete with a Twilight themed menu\, ON SALE NOW! Tell us in the comments\, are you #TeamEdward or #TeamJacob?</span></div>\n\n<div class="x11i5rnm xat24cr x1mh8g0r x1vvkbs xtlvy1s" style="margin: 0.5em 0px 0px\; overflow-wrap: break-word\; font-family: &quot\;Segoe UI Historic&quot\;\, &quot\;Segoe UI&quot\;\, Helvetica\, Arial\, sans-serif\; color: rgb(8\, 8\, 9)\; font-size: 15px\;"><span style="font-size:20px\;">Please reserve your seats in advance and show up 30 minutes early to avoid those pesky lines.</span></div>\n\n<div class="x11i5rnm xat24cr x1mh8g0r x1vvkbs xtlvy1s" style="margin: 0.5em 0px 0px\; overflow-wrap: break-word\; font-family: &quot\;Segoe UI Historic&quot\;\, &quot\;Segoe UI&quot\;\, Helvetica\, Arial\, sans-serif\; color: rgb(8\, 8\, 9)\; font-size: 15px\;"><span style="font-size:20px\;"><a attributionsrc="/privacy_sandbox/comet/register/source/?xt=AZVyVwD3SBKEvvQYawfIhd4VeKeDlVvlNda-WfkqYlSDTRHoxg4xMeq3Yr8qM2W8Baaz4BvHuQGjirmWoMDY_7mp1bIYExf30T2A4UKgLp7c2RTwfpRtGgvhEx87x7ttrZF4WFGvJZQ-4BZyxhM2IHWuaKvXYCnKpOgbaepaISvCdWMF51MFD7L5HsH6a0fwGBTZCtQBhOLBeyh9JmjSRLGbxF1cBEAK_Ket5KcSl14hKmPjKe_lMm_eIN9GkRVUlxB9MsARz1MISfRmbJlNgiarPzoiORSF7rVDxk5jGnt3PalhvhBU3AOs9F7qkBl1UAFkgIa0l_BdtONMvu3Yq3jDGsue_RjlEJ1qacUOeUhCeERSbjpmqv5Ov2dzVtdVCFHj0H_og9KMgHQKJS_oYqKW2GFPBE5fg6xiFTh-4glRpmQM-LfIl8UdnU-v1y45qAGLF-DuCcAddThUZb1ZT9gI3hwzyUgVj__M0OTB-E-y0yYSFwwMHPLOB6IobNbSeRTTdrxtnZqO-NL4uEEgA3XBmU_7mIcufl4WcvjyNcXdwamQLTSBNitjLfEJKZ1sI5C6I1YLUrifw84MwxBCMRtQX68_t8j-kvSA6WWxpJA9HRolqo4kunHT2vBEf1GgdxHZAYOxjy2O-Ih44k8mhiRWOr3KcyUxJIMqWgwpwGtkMIezBKsv9QasFSNEzaE0NWAGsWhu0owOM2eK78-gqdfREwkLB8LZ-Lh9fJRtGpowpdnGTwH5y7Xck4Ov1RmNoxVcSgVbLuIm4k7-OQ67CC20gn5RcktTGzf7GvY3CQk3Fcxk3P0JUleKi2wjidaven3eriC57xO7fjLyZJa4OFASV6sbxYNpv9AEqz2RBkIzQw" class="x1i10hfl xjbqb8w x1ejq31n xd10rxx x1sy0etr x17r0tee x972fbf xcfux6l x1qhh985 xm0m39n x9f619 x1ypdohk xt0psk2 xe8uvvx xdj266r x11i5rnm xat24cr x1mh8g0r xexx8yu x4uap5 x18d9i69 xkhd6sd x16tdsg8 x1hl2dhg xggy1nq x1a2a7pz xkrqix3 x1sur9pj x1fey0fg x1s688f" href="http://779270.formovietickets.com:2235/?fbclid=IwZXh0bgNhZW0CMTAAYnJpZBExWjZFbGx1NVRqN0QwVnRIbAEeeXrh6YK37exd1Qe1EzBsuq2qhd_C8gH2XFQCzQ_tl0OLodWGz7wo5Ioa_EE_aem_7z-VPCxWvVMfeLYgb6J6gw" rel="nofollow noreferrer" role="link" style="color: rgb(0\, 100\, 209)\; cursor: pointer\; text-decoration-line: none\; list-style: none\; margin: 0px\; text-align: inherit\; border-style: none\; padding: 0px\; box-sizing: border-box\; border-width: 0px\; outline: none\; -webkit-tap-highlight-color: transparent\; font-weight: 600\; touch-action: manipulation\; background-color: transparent\; display: inline\; font-family: inherit\;" tabindex="0" target="_blank">http://779270.formovietickets.com:2235/</a></span></div>\n\n<div class="x11i5rnm xat24cr x1mh8g0r x1vvkbs xtlvy1s" style="margin: 0.5em 0px 0px\; overflow-wrap: break-word\; font-family: &quot\;Segoe UI Historic&quot\;\, &quot\;Segoe UI&quot\;\, Helvetica\, Arial\, sans-serif\; color: rgb(8\, 8\, 9)\; font-size: 15px\;"><span style="font-size:20px\;">4/28 - 5/3 Twilight (2008)<br class="html-br" />\n5/5 - 5/10 The Twilight Sage: New Moon (2009)<br class="html-br" />\n5/12 - 5/17 The Twilight Saga: Eclipse (2010)<br class="html-br" />\n5/19 - 5/24 The Twilight Saga: Breaking Dawn - Part 1 (2011)<br class="html-br" />\n5/26 - 5/31 The Twilight Saga: Breaking Dawn - Part 2 (2012)</span></div>\n\n<div class="x11i5rnm xat24cr x1mh8g0r x1vvkbs xtlvy1s" style="margin: 0.5em 0px 0px\; overflow-wrap: break-word\; font-family: &quot\;Segoe UI Historic&quot\;\, &quot\;Segoe UI&quot\;\, Helvetica\, Arial\, sans-serif\; color: rgb(8\, 8\, 9)\; font-size: 15px\;"><span style="font-size:20px\;">#Twilight<br class="html-br" />\n#TwilightSaga<br class="html-br" />\n#Movie<br class="html-br" />\n#Movies</span></div>\n\n<div class="x11i5rnm xat24cr x1mh8g0r x1vvkbs xtlvy1s" style="margin: 0.5em 0px 0px\; overflow-wrap: break-word\; font-family: &quot\;Segoe UI Historic&quot\;\, &quot\;Segoe UI&quot\;\, Helvetica\, Arial\, sans-serif\; color: rgb(8\, 8\, 9)\; font-size: 15px\;"><span style="font-size:20px\;">See you at the movies soon!!</span></div>\n
LOCATION:The Beltonian Theatre 219 E Central Ave Belton\, TX
UID:e.300.18414
SEQUENCE:3
DTSTAMP:20260421T195357Z
URL:https://business.beltonchamber.com/events/details/the-complete-twilight-saga-18414
END:VEVENT

END:VCALENDAR
