BEGIN:VCALENDAR
VERSION:2.0
PRODID:-//ChamberMaster//Event Calendar 2.0//EN
METHOD:PUBLISH
X-PUBLISHED-TTL:P3D
REFRESH-INTERVAL:P3D
CALSCALE:GREGORIAN
BEGIN:VEVENT
DTSTART:20250428T170000Z
DTEND:20250428T180000Z
X-MICROSOFT-CDO-ALLDAYEVENT:FALSE
SUMMARY:The Edge Barbershop - Ribbon Cutting
DESCRIPTION:Join us to celebrate a ribbon cutting for The Edge Barbershop!
X-ALT-DESC;FMTTYPE=text/html:<div class="xdj266r x11i5rnm xat24cr x1mh8g0r x1vvkbs" style="margin: 0px\; overflow-wrap: break-word\; font-family: inherit\;"><span class="x193iq5w xeuugli x13faqbe x1vvkbs x1xmvt09 x1lliihq x1s928wv xhkezso x1gmr53x x1cpjm7i x1fgarty x1943h6x xudqn12 x3x7a5m x6prxxf xvq8zen xo1l8bm xzsf02u" dir="auto" style="overflow-wrap: break-word\; max-width: 100%\; word-break: break-word\; display: block\; font-family: &quot\;Segoe UI Historic&quot\;\, &quot\;Segoe UI&quot\;\, Helvetica\, Arial\, sans-serif\; font-size: 0.9375rem\; line-height: 1.3333\; color: rgb(8\, 8\, 9)\; min-width: 0px\; margin-top: 16px\;"><span style="font-family:times new roman\;"><strong><span style="font-size:20px\;">Join us to celebrate a ribbon cutting for The Edge Barbershop!&nbsp\;</span></strong></span></span></div>\n
LOCATION:6401 Hwy 317 Suite C Temple\, TX 76502
UID:e.300.18390
SEQUENCE:3
DTSTAMP:20260422T000005Z
URL:https://business.beltonchamber.com/events/details/the-edge-barbershop-ribbon-cutting-18390
END:VEVENT

END:VCALENDAR
