BEGIN:VCALENDAR
VERSION:2.0
PRODID:-//ChamberMaster//Event Calendar 2.0//EN
METHOD:PUBLISH
X-PUBLISHED-TTL:P3D
REFRESH-INTERVAL:P3D
CALSCALE:GREGORIAN
BEGIN:VEVENT
DTSTART:20190928T000000Z
DTEND:20190928T050000Z
X-MICROSOFT-CDO-ALLDAYEVENT:FALSE
SUMMARY:The Highwaymen Live (Tribute to Willie Nelson\, Johnny Cash\, and Waylon Jennings) with Kathryn Stredwick
DESCRIPTION:Company Kries Production presents The Highwaymen Live.  The group is a tribute band to the Legends Willie Nelson\, Johnny Cash and Waylon Jennings.  Kathryn Stredwick will open this fun show.
X-ALT-DESC;FMTTYPE=text/html:Company Kries Production presents The Highwaymen Live.&nbsp\; The group is a tribute band to the Legends Willie Nelson\, Johnny Cash and Waylon Jennings.&nbsp\; Kathryn Stredwick will open this fun show.
LOCATION:Schoepf's BBQ 702 E Central Ave Belton\, TX 76513
UID:e.300.15148
SEQUENCE:3
DTSTAMP:20260422T164814Z
URL:https://business.beltonchamber.com/events/details/the-highwaymen-live-tribute-to-willie-nelson-johnny-cash-and-waylon-jennings-with-kathryn-stredwick-15148
END:VEVENT

END:VCALENDAR
