BEGIN:VCALENDAR
VERSION:2.0
PRODID:-//ChamberMaster//Event Calendar 2.0//EN
METHOD:PUBLISH
X-PUBLISHED-TTL:P3D
REFRESH-INTERVAL:P3D
CALSCALE:GREGORIAN
BEGIN:VEVENT
DTSTART:20250331T150000Z
DTEND:20250331T160000Z
X-MICROSOFT-CDO-ALLDAYEVENT:FALSE
SUMMARY:The Importance of Saving and How to Budget
DESCRIPTION:Come learn about the importance of saving and how to budget with Juston Hargrove.
X-ALT-DESC;FMTTYPE=text/html:<span style="font-size:20px\;">Come learn about the importance of saving and how to budget with Juston Hargrove.&nbsp\;</span>
LOCATION:Helping Hands Ministry 2210 Holland Rd Belton\, TX 76513
UID:e.300.18202
SEQUENCE:3
DTSTAMP:20260421T213838Z
URL:https://business.beltonchamber.com/events/details/the-importance-of-saving-and-how-to-budget-18202
END:VEVENT

END:VCALENDAR
