BEGIN:VCALENDAR
VERSION:2.0
PRODID:-//ChamberMaster//Event Calendar 2.0//EN
METHOD:PUBLISH
X-PUBLISHED-TTL:P3D
REFRESH-INTERVAL:P3D
CALSCALE:GREGORIAN
BEGIN:VEVENT
DTSTART:20211211T200000Z
DTEND:20211211T213000Z
X-MICROSOFT-CDO-ALLDAYEVENT:FALSE
SUMMARY:The Leopard's Palette presents: A Cookie Decorating Class
DESCRIPTION:Join the Leopard's Palette for this Cookie Decorating Class. Let's get creative and be inspired by the holiday season. Learn how to recreate the 4 cookies pictured below as our instructor SueJung Smith of SueJung's Sweet Treats guides you through the step-by-step process. Everything you need will be supplied. Register now\, seats are limited.\n\n\n\nTo register click here:\n\nhttps://www.templejc.edu/.../files/465-bce-registration-form\n\nThen email the form to bce@templejc.edu
X-ALT-DESC;FMTTYPE=text/html:<div>Join the Leopard&#39\;s Palette for this Cookie Decorating Class. Let&#39\;s get creative and be inspired by the holiday season. Learn how to recreate the 4 cookies pictured below as our instructor SueJung Smith of SueJung&#39\;s Sweet Treats guides you through the step-by-step process. Everything you need will be supplied. Register now\, seats are limited.</div>\n\n<div><br />\nTo register click here:</div>\n\n<div><span style="font-family:inherit"><a class="oajrlxb2 g5ia77u1 qu0x051f esr5mh6w e9989ue4 r7d6kgcz rq0escxv nhd2j8a9 nc684nl6 p7hjln8o kvgmc6g5 cxmmr5t8 oygrvhab hcukyx3x jb3vyjys rz4wbd8a qt6c0cv9 a8nywdso i1ao9s8h esuyzwwr f1sip0of lzcic4wl py34i1dx gpro0wi8" href="https://www.templejc.edu/.../files/465-bce-registration-form?fbclid=IwAR2ivx-qJq2shHEsY4IZ7YbuqlgHeS9UXNz018003Omk95zRbBj-xPYP52U" rel="nofollow noopener" style="color: var(--blue-link)\; cursor: pointer\; text-decoration-line: none\; outline: none\; list-style: none\; border-width: 0px\; border-style: initial\; border-color: initial\; padding: 0px\; margin: 0px\; touch-action: manipulation\; background-color: transparent\; text-align: inherit\; display: inline\; -webkit-tap-highlight-color: transparent\; box-sizing: border-box\; font-family: inherit\; animation-name: none !important\; transition-property: none !important\;" tabindex="0" target="_blank">https://www.templejc.edu/.../files/465-bce-registration-form</a></span></div>\n\n<div>Then email the form to bce@templejc.edu</div>\n
LOCATION:Temple College\, Berry Hall
UID:e.300.16074
SEQUENCE:3
DTSTAMP:20260421T010237Z
URL:https://business.beltonchamber.com/events/details/the-leopard-s-palette-presents-a-cookie-decorating-class-16074
END:VEVENT

END:VCALENDAR
