BEGIN:VCALENDAR
VERSION:2.0
PRODID:-//ChamberMaster//Event Calendar 2.0//EN
METHOD:PUBLISH
X-PUBLISHED-TTL:P3D
REFRESH-INTERVAL:P3D
CALSCALE:GREGORIAN
BEGIN:VEVENT
DTSTART:20241207T230000Z
DTEND:20241208T010000Z
X-MICROSOFT-CDO-ALLDAYEVENT:FALSE
SUMMARY:The Parade of Lights
DESCRIPTION:The Parade of Lights will be held on Saturday\, December 7th. The show starts at Sunset. Make reservations today and watch at Dead Fish Grill. Hot Chocolate Bombs and Happy Hour Specials!\n\nTo Participate in the Parade\, contact Frank's Marina today!
X-ALT-DESC;FMTTYPE=text/html:<div dir="auto" style="font-family: &quot\;Segoe UI Historic&quot\;\, &quot\;Segoe UI&quot\;\, Helvetica\, Arial\, sans-serif\; color: rgb(8\, 8\, 9)\; font-size: 15px\; white-space-collapse: preserve\;"><span style="font-size:20px\;">The Parade of Lights will be held on Saturday\, December 7th. The show starts at Sunset. Make reservations today and watch at Dead Fish Grill. Hot Chocolate Bombs and Happy Hour Specials!</span></div>\n\n<div dir="auto" style="font-family: &quot\;Segoe UI Historic&quot\;\, &quot\;Segoe UI&quot\;\, Helvetica\, Arial\, sans-serif\; color: rgb(8\, 8\, 9)\; font-size: 15px\; white-space-collapse: preserve\;"><span style="font-size:20px\;">To Participate in the Parade\, contact Frank&#39\;s Marina today!</span></div>\n
LOCATION:Lake Belton
UID:e.300.18089
SEQUENCE:3
DTSTAMP:20260422T025350Z
URL:https://business.beltonchamber.com/events/details/the-parade-of-lights-18089
END:VEVENT

END:VCALENDAR
