BEGIN:VCALENDAR
VERSION:2.0
PRODID:-//ChamberMaster//Event Calendar 2.0//EN
METHOD:PUBLISH
X-PUBLISHED-TTL:P3D
REFRESH-INTERVAL:P3D
CALSCALE:GREGORIAN
BEGIN:VEVENT
DTSTART:20250306T160000Z
DTEND:20250306T170000Z
X-MICROSOFT-CDO-ALLDAYEVENT:FALSE
SUMMARY:The Promise Homes
DESCRIPTION:Join Family Promise as they break ground for the second phase of the Family Promise campus on Thursday\, March 6th at 10am.
X-ALT-DESC;FMTTYPE=text/html:<p align="center" data-ogsc="" style="margin: 0px\; padding: 0px\; color: rgb(62\, 62\, 62)\; font-family: Arial\, Verdana\, Helvetica\, sans-serif\; font-size: 14px\; text-align: center\;"><span data-ogsc="" data-olk-copy-source="MessageBody" style="border: 0px\; font-style: inherit\; font-variant: inherit\; font-weight: inherit\; font-stretch: inherit\; font-size: 21px\; line-height: inherit\; font-family: Tahoma\, Geneva\, sans-serif\, serif\, EmojiFont\; font-optical-sizing: inherit\; font-size-adjust: inherit\; font-kerning: inherit\; font-feature-settings: inherit\; font-variation-settings: inherit\; margin: 0px\; padding: 0px\; vertical-align: baseline\; color: inherit\;">Join Family Promise as they break ground for the second phase of the Family Promise campus on Thursday\, March 6th at 10am.</span></p>\n\n<p align="center" data-ogsc="" style="margin: 0px\; padding: 0px\; color: rgb(62\, 62\, 62)\; font-family: Arial\, Verdana\, Helvetica\, sans-serif\; font-size: 14px\; text-align: center\;">&nbsp\;</p>\n
LOCATION:The location is: Family Promise of Bell County 1411 E Ave N Temple\, TX 76501
UID:e.300.18172
SEQUENCE:3
DTSTAMP:20260421T225005Z
URL:https://business.beltonchamber.com/events/details/the-promise-homes-18172
END:VEVENT

END:VCALENDAR
