BEGIN:VCALENDAR
VERSION:2.0
PRODID:-//ChamberMaster//Event Calendar 2.0//EN
METHOD:PUBLISH
X-PUBLISHED-TTL:P3D
REFRESH-INTERVAL:P3D
CALSCALE:GREGORIAN
BEGIN:VEVENT
DTSTART:20251008T150000Z
DTEND:20251008T170000Z
X-MICROSOFT-CDO-ALLDAYEVENT:FALSE
SUMMARY:The Promise Homes Ribbon Cutting
DESCRIPTION:Please join us on Wednesday\, October 8th @ 10am\, as we celebrate the grand opening of the Promise Homes with the community-wide ribbon cutting!
X-ALT-DESC;FMTTYPE=text/html:<span style="color: rgb(8\, 8\, 9)\; font-family: &quot\;Segoe UI Historic&quot\;\, &quot\;Segoe UI&quot\;\, Helvetica\, Arial\, sans-serif\; font-size: 15px\; background-color: rgb(255\, 255\, 255)\;">Please join us on Wednesday\, October 8th @ 10am\, as we celebrate the grand opening of the Promise Homes with the community-wide ribbon cutting!</span>
LOCATION:1411 E Avenue N\, Temple\, TX 76501-2120\, United States
UID:e.300.19718
SEQUENCE:3
DTSTAMP:20260421T110228Z
URL:https://business.beltonchamber.com/events/details/the-promise-homes-ribbon-cutting-19718
END:VEVENT

END:VCALENDAR
