BEGIN:VCALENDAR
VERSION:2.0
PRODID:-//ChamberMaster//Event Calendar 2.0//EN
METHOD:PUBLISH
X-PUBLISHED-TTL:P3D
REFRESH-INTERVAL:P3D
CALSCALE:GREGORIAN
BEGIN:VEVENT
DTSTART:20200316T120000Z
DTEND:20200317T013000Z
X-MICROSOFT-CDO-ALLDAYEVENT:FALSE
SUMMARY:Third House Session with State Rep Hugh Shine
DESCRIPTION:
X-ALT-DESC;FMTTYPE=text/html:
LOCATION:Belton Area Chamber of Commerce 412 E Central Ave
UID:e.300.15374
SEQUENCE:3
DTSTAMP:20260422T090540Z
URL:https://business.beltonchamber.com/events/details/third-house-session-with-state-rep-hugh-shine-15374
END:VEVENT

END:VCALENDAR
