BEGIN:VCALENDAR
VERSION:2.0
PRODID:-//ChamberMaster//Event Calendar 2.0//EN
METHOD:PUBLISH
X-PUBLISHED-TTL:P3D
REFRESH-INTERVAL:P3D
CALSCALE:GREGORIAN
BEGIN:VEVENT
DTSTART:20200608T120000Z
DTEND:20200608T133000Z
X-MICROSOFT-CDO-ALLDAYEVENT:FALSE
SUMMARY:Third House Session with State Rep Hugh Shine
DESCRIPTION:Legislative Update with our State Representative\, Hugh Shine happens the second Monday every month here at the Belton Area Chamber of Commerce.
X-ALT-DESC;FMTTYPE=text/html:<span style="color: rgb(29\, 33\, 41)\; font-family: Helvetica\, Arial\, sans-serif\; font-size: 14px\; white-space: pre-wrap\;">Legislative Update with our State Representative\, Hugh Shine happens the second Monday every month here at the Belton Area Chamber of Commerce. </span>
LOCATION:Event is scheduled via Zoom.
UID:e.300.15386
SEQUENCE:3
DTSTAMP:20260421T122714Z
URL:https://business.beltonchamber.com/events/details/third-house-session-with-state-rep-hugh-shine-15386
END:VEVENT

END:VCALENDAR
