BEGIN:VCALENDAR
VERSION:2.0
PRODID:-//ChamberMaster//Event Calendar 2.0//EN
METHOD:PUBLISH
X-PUBLISHED-TTL:P3D
REFRESH-INTERVAL:P3D
CALSCALE:GREGORIAN
BEGIN:VEVENT
DTSTART:20211018T120000Z
DTEND:20211018T130000Z
X-MICROSOFT-CDO-ALLDAYEVENT:FALSE
SUMMARY:Third House Session with State Rep Hugh Shine
DESCRIPTION:Third House Session with our State Representative\, Hugh Shine happens the second Monday every month\, here at the Belton Area Chamber of Commerce. This is your chance to sit down in a relaxed environment and ask the questions and get legislative updates face to face. This session will be conducted in person and via Zoom. Seating will be limited\, please register and choose option.
X-ALT-DESC;FMTTYPE=text/html:<span style="color: rgb(29\, 33\, 41)\; font-family: Helvetica\, Arial\, sans-serif\; font-size: 14px\; white-space: pre-wrap\;">Third House Session with our State Representative\, Hugh Shine happens the second Monday every month\, here at the Belton Area Chamber of Commerce. This is your chance to sit down in a relaxed environment and ask the questions and get legislative updates face to face. This session will be conducted in person and via Zoom. Seating will be limited\, please register and choose option.</span>
LOCATION:Belton Area Chamber of Commerce 412 E Central Ave Belton\, TX
UID:e.300.16060
SEQUENCE:3
DTSTAMP:20260421T054659Z
URL:https://business.beltonchamber.com/events/details/third-house-session-with-state-rep-hugh-shine-16060
END:VEVENT

END:VCALENDAR
