BEGIN:VCALENDAR
VERSION:2.0
PRODID:-//ChamberMaster//Event Calendar 2.0//EN
METHOD:PUBLISH
X-PUBLISHED-TTL:P3D
REFRESH-INTERVAL:P3D
CALSCALE:GREGORIAN
BEGIN:VEVENT
DTSTART:20221010T120000Z
DTEND:20221010T130000Z
X-MICROSOFT-CDO-ALLDAYEVENT:FALSE
SUMMARY:Third House Session with State Rep.\, Hugh Shine
DESCRIPTION:The Belton Area Chamber of Commerce invites you to our monthly Third House Session Legislative Update with Representative Hugh Shine this coming Monday morning\, October 10\, beginning at 7:00 a.m. Yes\, we know it's a holiday for some\, but not for all\, so join us for coffee and conversation.\n\n \n\nTopic: Third House Session Legislative Update with Rep. Hugh Shine\n\nTime: Monday\, October 10\, 2022 7:00-8:00 AM \n\n \n\nYou are welcome to join us at the Chamber office\, 412 E. Central\, or via Zoom at the following link: https://us02web.zoom.us/j/88679297226?pwd=RXRwdExmY2dCTkRMbHVORWQ5Y2gvUT09\n\n \n\nMeeting ID: 886 7929 7226\n\nPasscode: 015585
X-ALT-DESC;FMTTYPE=text/html:The Belton Area Chamber of Commerce <a name="WinZmBookmark_z71508">invites you to our monthly Third House Session Legislative Update with Representative Hugh Shine this coming Monday morning\, October 10\, beginning at 7:00 a.m.&nbsp\;</a>Yes\, we know it&rsquo\;s a holiday for some\, but not for all\, so join us for coffee and conversation.<br />\n&nbsp\;<br />\n<strong>Topic: Third House Session Legislative Update with Rep. Hugh Shine</strong><br />\n<strong>Time: Monday\, October 10\, 2022 7:00-8:00 AM </strong><br />\n&nbsp\;<br />\nYou are welcome to join us at the Chamber office\, 412 E. Central\, or via Zoom at the following link:&nbsp\;<a href="https://us02web.zoom.us/j/88679297226?pwd=RXRwdExmY2dCTkRMbHVORWQ5Y2gvUT09"><span style="color:windowtext\;">https://us02web.zoom.us/j/88679297226?pwd=RXRwdExmY2dCTkRMbHVORWQ5Y2gvUT09</span></a><br />\n&nbsp\;<br />\nMeeting ID: 886 7929 7226<br />\nPasscode: 015585
LOCATION:Belton Chamber 412 E. Central Ave.\, Belton
UID:e.300.17350
SEQUENCE:3
DTSTAMP:20260423T145016Z
URL:https://business.beltonchamber.com/events/details/third-house-session-with-state-rep-hugh-shine-17350
END:VEVENT

END:VCALENDAR
