BEGIN:VCALENDAR
VERSION:2.0
PRODID:-//ChamberMaster//Event Calendar 2.0//EN
METHOD:PUBLISH
X-PUBLISHED-TTL:P3D
REFRESH-INTERVAL:P3D
CALSCALE:GREGORIAN
BEGIN:VEVENT
DTSTART:20201214T130000Z
DTEND:20201214T140000Z
X-MICROSOFT-CDO-ALLDAYEVENT:FALSE
SUMMARY:Third House Session with State Representative Hugh Shine
DESCRIPTION:Third House Session with our State Representative\, Hugh Shine happens the second Monday every month\, here at the Belton Area Chamber of Commerce. This is your chance to sit down in a relaxed environment and ask the questions and get legislative updates face to face. This session will be conducted in person and via Zoom. Seating will be limited\, please register and choose option.
X-ALT-DESC;FMTTYPE=text/html:<span style="color: rgb(29\, 33\, 41)\; font-family: Helvetica\, Arial\, sans-serif\; font-size: 14px\; white-space: pre-wrap\;">Third House Session with our State Representative\, Hugh Shine happens the second Monday every month\, here at the Belton Area Chamber of Commerce. This is your chance to sit down in a relaxed environment and ask the questions and get legislative updates face to face. This session will be conducted in person and via Zoom. Seating will be limited\, please register and choose option.</span>
LOCATION:Belton Area Chamber of Commerce Office 412 E. Central Belton\, TX
UID:e.300.15405
SEQUENCE:3
DTSTAMP:20260421T195519Z
URL:https://business.beltonchamber.com/events/details/third-house-session-with-state-representative-hugh-shine-12-14-2020-15405
END:VEVENT

END:VCALENDAR
