BEGIN:VCALENDAR
VERSION:2.0
PRODID:-//ChamberMaster//Event Calendar 2.0//EN
METHOD:PUBLISH
X-PUBLISHED-TTL:P3D
REFRESH-INTERVAL:P3D
CALSCALE:GREGORIAN
BEGIN:VEVENT
DTSTART:20241214T000000Z
DTEND:20241214T013000Z
X-MICROSOFT-CDO-ALLDAYEVENT:FALSE
SUMMARY:Unplugged at the Esquire ~ Crystal & Will Yates
DESCRIPTION:
X-ALT-DESC;FMTTYPE=text/html:
LOCATION:The Esquire 106 W. Central Ave Belton
UID:e.300.18094
SEQUENCE:3
DTSTAMP:20260422T025404Z
URL:https://business.beltonchamber.com/events/details/unplugged-at-the-esquire-crystal-will-yates-18094
END:VEVENT

END:VCALENDAR
