BEGIN:VCALENDAR
VERSION:2.0
PRODID:-//ChamberMaster//Event Calendar 2.0//EN
METHOD:PUBLISH
X-PUBLISHED-TTL:P3D
REFRESH-INTERVAL:P3D
CALSCALE:GREGORIAN
BEGIN:VEVENT
DTSTART:20191020T003000Z
DTEND:20191020T023000Z
X-MICROSOFT-CDO-ALLDAYEVENT:FALSE
SUMMARY:Van Cliburn Finalist - Rachel Cheung
DESCRIPTION:In cooperation with Temple Symphony Orchestra\, we are happy to welcome Van Cliburn Finalist\, Rachel Cheung. Rachel has been a Young Steinway Artist since 2011\, has studied with Peter Frankl at the Yale School of Music and with Eleanor Wong at the Hong Kong Academy for the Performing Arts. She has won numerous prizes and awards\, including fifth prize at the Leeds International Piano Competition\, and was a semifinalist at the International Fryderyk Chopin Piano Competition.
X-ALT-DESC;FMTTYPE=text/html:<span style="color: rgb(55\, 71\, 79)\; font-family: Merriweather\, helvetica\, arial\, sans-serif\; font-size: 14px\;">In cooperation with Temple Symphony Orchestra\, we are happy to welcome Van Cliburn Finalist\, Rachel Cheung. Rachel has been a Young Steinway Artist since 2011\, has studied with Peter Frankl at the Yale School of Music and with Eleanor Wong at the Hong Kong Academy for the Performing Arts. She has won numerous prizes and awards\, including fifth prize at the Leeds International Piano Competition\, and was a semifinalist at the International Fryderyk Chopin Piano Competition.</span>
LOCATION:Sue & Frank Mayborn Performing Arts Center UMHB 810 N Main Street Belton\, TX 76513
UID:e.300.15159
SEQUENCE:3
DTSTAMP:20260422T152211Z
URL:https://business.beltonchamber.com/events/details/van-cliburn-finalist-rachel-cheung-15159
END:VEVENT

END:VCALENDAR
