BEGIN:VCALENDAR
VERSION:2.0
PRODID:-//ChamberMaster//Event Calendar 2.0//EN
METHOD:PUBLISH
X-PUBLISHED-TTL:P3D
REFRESH-INTERVAL:P3D
CALSCALE:GREGORIAN
BEGIN:VEVENT
DTSTART:20210428T203000Z
DTEND:20210428T213000Z
X-MICROSOFT-CDO-ALLDAYEVENT:FALSE
SUMMARY:Virtual Yoga
DESCRIPTION:CE 7006 / CEUs: 0.0 / $99 /\n\nJanuary 27   May 5 / Wednesdays\n\n3:30   4:30 p.m.\n\n\n\nWe know that too much stress is bad for the body on all fronts. Yoga brings your stress levels down through increased focus on breath\, body movement\, and various states of meditation. Studies show that reducing stress levels improves blood pressure\, relieves headaches\, improves sleep quality\, and boosts mood for people suffering from depression and anxiety. Yoga is a whole body\, mind healing\, and fitness discipline. Enjoy an hour of your day in a relaxed\, tranquil environment\, while giving your attention to YOU! Please have a sticky mat for your practice.
X-ALT-DESC;FMTTYPE=text/html:<strong>CE 7006 / CEUs: 0.0 / $99 /<br />\nJanuary 27 &ndash\; May 5 / Wednesdays<br />\n3:30 &ndash\; 4:30 p.m.</strong><br />\n<br />\nWe know that too much stress is bad for the body on all fronts. Yoga brings your stress levels down through increased focus on breath\, body movement\, and various states of meditation. Studies show that reducing stress levels improves blood pressure\, relieves headaches\, improves sleep quality\, and boosts mood for people suffering from depression and anxiety. Yoga is a whole body\, mind healing\, and fitness discipline. Enjoy an hour of your day in a relaxed\, tranquil environment\, while giving your attention to YOU! Please have a sticky mat for your practice.
LOCATION:
UID:e.300.15759
SEQUENCE:3
DTSTAMP:20260421T134719Z
URL:https://business.beltonchamber.com/events/details/virtual-yoga-04-28-2021-15759
END:VEVENT

END:VCALENDAR
