BEGIN:VCALENDAR
VERSION:2.0
PRODID:-//ChamberMaster//Event Calendar 2.0//EN
METHOD:PUBLISH
X-PUBLISHED-TTL:P3D
REFRESH-INTERVAL:P3D
CALSCALE:GREGORIAN
BEGIN:VEVENT
DTSTART:20191023T210000Z
DTEND:20191023T223000Z
X-MICROSOFT-CDO-ALLDAYEVENT:FALSE
SUMMARY:Visiting Visual Artists: Alison Hearst\, Modern Art Museum of Fort Worth
DESCRIPTION:Alison Hearst\, Associate Curator at Modern Art Museum of Fort Worth will present a lecture about the process of finding and working with contemporary artists for exhibits and the influencing of culture via the visual arts. Join us for this informative and interesting look at the world of modern art.
X-ALT-DESC;FMTTYPE=text/html:<span style="color: rgb(55\, 71\, 79)\; font-family: Merriweather\, helvetica\, arial\, sans-serif\; font-size: 14px\;">Alison Hearst\, Associate Curator at Modern Art Museum of Fort Worth will present a lecture about the process of finding and working with contemporary artists for exhibits and the influencing of culture via the visual arts. Join us for this informative and interesting look at the world of modern art.</span>
LOCATION:Baugh Performance Hall\, Sue & Frank Mayborn Performing Arts Center 810 Main St. Belton\, TX 76513
UID:e.300.15160
SEQUENCE:3
DTSTAMP:20260422T152603Z
URL:https://business.beltonchamber.com/events/details/visiting-visual-artists-alison-hearst-modern-art-museum-of-fort-worth-15160
END:VEVENT

END:VCALENDAR
