BEGIN:VCALENDAR
VERSION:2.0
PRODID:-//ChamberMaster//Event Calendar 2.0//EN
METHOD:PUBLISH
X-PUBLISHED-TTL:P3D
REFRESH-INTERVAL:P3D
CALSCALE:GREGORIAN
BEGIN:VEVENT
DTSTART:20241208T230000Z
DTEND:20241209T010000Z
X-MICROSOFT-CDO-ALLDAYEVENT:FALSE
SUMMARY:Walk to Remember
DESCRIPTION:Each year a memorial placard with your loved ones picture & a special message will be set along a pathway for a memorial gathering to honor your family.\n\nA moment of silence followed by a candle lit walk-along will begin at sunset.\n\nThis event is our way to say thank you for the opportunity to serve you & to say that your journey is not walked alone.\n\nThis is a community event that we hold on the second Sunday in December each year. Even if we did not have the privileged to serve your family we are extending invitation to have your loved one join us year after year.\n\nYour placard will be included each year unless you elect to take it home with you at the conclusion of the event. You are welcome to bring it back the following year or even create a new one to be ordered.\n\n\n\nTo participate in this years event simply call your Family Service Advocate & fill out your order form.\n\nIf you are a community member who would like to participate please call our office at 254.401.1302 to make your donation & place your order.\n\n\n\nIf you would like to sponsor this event please contact Liz at 254.401.1302
X-ALT-DESC;FMTTYPE=text/html:<div class="xdj266r x11i5rnm xat24cr x1mh8g0r x1vvkbs x126k92a" style="margin: 0px\; overflow-wrap: break-word\; white-space-collapse: preserve\; font-family: &quot\;Segoe UI Historic&quot\;\, &quot\;Segoe UI&quot\;\, Helvetica\, Arial\, sans-serif\; color: rgb(8\, 8\, 9)\; font-size: 15px\;">\n<div dir="auto" style="font-family: inherit\;">Each year a memorial placard with your loved ones picture &amp\; a special message will be set along a pathway for a memorial gathering to honor your family.</div>\n\n<div dir="auto" style="font-family: inherit\;">A moment of silence followed by a candle lit walk-along will begin at sunset.</div>\n\n<div dir="auto" style="font-family: inherit\;">This event is our way to say thank you for the opportunity to serve you &amp\; to say that your journey is not walked alone.</div>\n\n<div dir="auto" style="font-family: inherit\;">This is a community event that we hold on the second Sunday in December each year. Even if we did not have the privileged to serve your family we are extending invitation to have your loved one join us year after year.</div>\n\n<div dir="auto" style="font-family: inherit\;">Your placard will be included each year unless you elect to take it home with you at the conclusion of the event. You are welcome to bring it back the following year or even create a new one to be ordered.</div>\n</div>\n\n<div class="x11i5rnm xat24cr x1mh8g0r x1vvkbs xtlvy1s x126k92a" style="margin: 0.5em 0px 0px\; overflow-wrap: break-word\; white-space-collapse: preserve\; font-family: &quot\;Segoe UI Historic&quot\;\, &quot\;Segoe UI&quot\;\, Helvetica\, Arial\, sans-serif\; color: rgb(8\, 8\, 9)\; font-size: 15px\;">\n<div dir="auto" style="font-family: inherit\;">To participate in this years event simply call your Family Service Advocate &amp\; fill out your order form.</div>\n\n<div dir="auto" style="font-family: inherit\;">If you are a community member who would like to participate please call our office at 254.401.1302 to make your donation &amp\; place your order.</div>\n</div>\n\n<div class="x11i5rnm xat24cr x1mh8g0r x1vvkbs xtlvy1s x126k92a" style="margin: 0.5em 0px 0px\; overflow-wrap: break-word\; white-space-collapse: preserve\; font-family: &quot\;Segoe UI Historic&quot\;\, &quot\;Segoe UI&quot\;\, Helvetica\, Arial\, sans-serif\; color: rgb(8\, 8\, 9)\; font-size: 15px\;">\n<div dir="auto" style="font-family: inherit\;">If you would like to sponsor this event please contact Liz at 254.401.1302</div>\n</div>\n
LOCATION:Crossroads Park Temple
UID:e.300.18090
SEQUENCE:3
DTSTAMP:20260422T024201Z
URL:https://business.beltonchamber.com/events/details/walk-to-remember-18090
END:VEVENT

END:VCALENDAR
