BEGIN:VCALENDAR
VERSION:2.0
PRODID:-//ChamberMaster//Event Calendar 2.0//EN
METHOD:PUBLISH
X-PUBLISHED-TTL:P3D
REFRESH-INTERVAL:P3D
CALSCALE:GREGORIAN
BEGIN:VEVENT
DTSTART:20241005T150000Z
DTEND:20241005T180000Z
X-MICROSOFT-CDO-ALLDAYEVENT:FALSE
SUMMARY:Warrior Preview Day
DESCRIPTION:Texas A&M University-Central Texas is hosting Warrior Preview Day on Saturday\, October 5\, 2024\, from 10 am to 1pm. Our university-wide open house event gives prospective students the opportunity to explore our new university campus\, visit with faculty about academic interests\, learn more admission requirements and more!  https://www.tamuct.edu/warriorpreview/
X-ALT-DESC;FMTTYPE=text/html:<p class="m-8963271355069295185m-6948112601169608352xmsonormal"><span style="font-size:18px\;"><strong><span style="font-family:&quot\;Times New Roman&quot\;\,serif">Texas A&amp\;M University-Central Texas is hosting Warrior Preview Day on Saturday\, October 5\, 2024\, from 10 am to 1pm. Our university-wide open house event gives prospective students the opportunity to explore our new university campus\, visit with faculty about academic interests\, learn more admission requirements and more! &nbsp\;<a href="https://www.tamuct.edu/warriorpreview/" target="_blank">https://www.tamuct.edu/warriorpreview/</a></span></strong></span><o:p></o:p></p>\n
LOCATION:Texas A&M University - Central Texas 1001 Leadership Place Killeen
UID:e.300.18055
SEQUENCE:3
DTSTAMP:20260422T054408Z
URL:https://business.beltonchamber.com/events/details/warrior-preview-day-18055
END:VEVENT

END:VCALENDAR
