BEGIN:VCALENDAR
VERSION:2.0
PRODID:-//ChamberMaster//Event Calendar 2.0//EN
METHOD:PUBLISH
X-PUBLISHED-TTL:P3D
REFRESH-INTERVAL:P3D
CALSCALE:GREGORIAN
BEGIN:VEVENT
DTSTART:20250406T000000Z
DTEND:20250406T030000Z
X-MICROSOFT-CDO-ALLDAYEVENT:FALSE
SUMMARY:West Temple Music Series at Bold Republic
DESCRIPTION:The 2025 West Temple Music Series presented by Kiella Homebuilders returns this Saturday\, April 5th with Scotty Alexander.\n\nThis music series is completely FREE to the Public thanks to the generosity of our local businesses who came together to bring something special to the West Side of town.
X-ALT-DESC;FMTTYPE=text/html:<div class="xdj266r x11i5rnm xat24cr x1mh8g0r x1vvkbs" style="margin: 0px\; overflow-wrap: break-word\; font-family: &quot\;Segoe UI Historic&quot\;\, &quot\;Segoe UI&quot\;\, Helvetica\, Arial\, sans-serif\; color: rgb(8\, 8\, 9)\; font-size: 15px\;"><span style="font-size:20px\;">The 2025 West Temple Music Series presented by Kiella Homebuilders returns this Saturday\, April 5th with Scotty Alexander.</span></div>\n\n<div class="x11i5rnm xat24cr x1mh8g0r x1vvkbs xtlvy1s" style="margin: 0.5em 0px 0px\; overflow-wrap: break-word\; font-family: &quot\;Segoe UI Historic&quot\;\, &quot\;Segoe UI&quot\;\, Helvetica\, Arial\, sans-serif\; color: rgb(8\, 8\, 9)\; font-size: 15px\;"><span style="font-size:20px\;">This music series is completely FREE to the Public thanks to the generosity of our local businesses who came together to bring something special to the West Side of town.</span></div>\n
LOCATION:7060 Stonehollow Dr Temple\, TX 76502
UID:e.300.18238
SEQUENCE:3
DTSTAMP:20260421T211637Z
URL:https://business.beltonchamber.com/events/details/west-temple-music-series-at-bold-republic-18238
END:VEVENT

END:VCALENDAR
