BEGIN:VCALENDAR
VERSION:2.0
PRODID:-//ChamberMaster//Event Calendar 2.0//EN
METHOD:PUBLISH
X-PUBLISHED-TTL:P3D
REFRESH-INTERVAL:P3D
CALSCALE:GREGORIAN
BEGIN:VEVENT
DTSTART:20190704T230000Z
DTEND:20190705T020000Z
X-MICROSOFT-CDO-ALLDAYEVENT:FALSE
SUMMARY:Western Gift Show
DESCRIPTION:
X-ALT-DESC;FMTTYPE=text/html:
LOCATION:Bell County Expo Concourse Area
UID:e.300.15118
SEQUENCE:3
DTSTAMP:20260425T012203Z
URL:https://business.beltonchamber.com/events/details/western-gift-show-15118
END:VEVENT

END:VCALENDAR
