BEGIN:VCALENDAR
VERSION:2.0
PRODID:-//ChamberMaster//Event Calendar 2.0//EN
METHOD:PUBLISH
X-PUBLISHED-TTL:P3D
REFRESH-INTERVAL:P3D
CALSCALE:GREGORIAN
BEGIN:VEVENT
DTSTART:20250330T170000Z
DTEND:20250330T190000Z
X-MICROSOFT-CDO-ALLDAYEVENT:FALSE
SUMMARY:Wine Tasting Party with BeeMaRosa and Highland Acres Homestead
DESCRIPTION:We are so excited to announce a special Wine Tasting event here at the Homestead!\n\nCome join us as we welcome BeeMaRosa Vineyards & Winery here to try 5 of their most popular wines while mingling with the fluffy cows!\n\nThere will be chances to buy additional bottles of your favorite wine\, a special keepsake to take home\, items in the gift shop from our homestead\, peacocks on display\, photo ops\, and lots of time with the animals!!!\n\nThis event is 21 & Up and tickets are $45\n\nMessage the page or text 512-762-4132 to register to attend
X-ALT-DESC;FMTTYPE=text/html:<div class="xdj266r x11i5rnm xat24cr x1mh8g0r x1vvkbs" style="margin: 0px\; overflow-wrap: break-word\; font-family: &quot\;Segoe UI Historic&quot\;\, &quot\;Segoe UI&quot\;\, Helvetica\, Arial\, sans-serif\; color: rgb(8\, 8\, 9)\; font-size: 15px\;"><span style="font-size:20px\;">We are so excited to announce a special Wine Tasting event here at the Homestead!</span></div>\n\n<div class="x11i5rnm xat24cr x1mh8g0r x1vvkbs xtlvy1s" style="margin: 0.5em 0px 0px\; overflow-wrap: break-word\; font-family: &quot\;Segoe UI Historic&quot\;\, &quot\;Segoe UI&quot\;\, Helvetica\, Arial\, sans-serif\; color: rgb(8\, 8\, 9)\; font-size: 15px\;"><span style="font-size:20px\;">Come join us as we welcome BeeMaRosa Vineyards &amp\; Winery here to try 5 of their most popular wines while mingling with the fluffy cows!</span></div>\n\n<div class="x11i5rnm xat24cr x1mh8g0r x1vvkbs xtlvy1s" style="margin: 0.5em 0px 0px\; overflow-wrap: break-word\; font-family: &quot\;Segoe UI Historic&quot\;\, &quot\;Segoe UI&quot\;\, Helvetica\, Arial\, sans-serif\; color: rgb(8\, 8\, 9)\; font-size: 15px\;"><span style="font-size:20px\;">There will be chances to buy additional bottles of your favorite wine\, a special keepsake to take home\, items in the gift shop from our homestead\, peacocks on display\, photo ops\, and lots of time with the animals!!!</span></div>\n\n<div class="x11i5rnm xat24cr x1mh8g0r x1vvkbs xtlvy1s" style="margin: 0.5em 0px 0px\; overflow-wrap: break-word\; font-family: &quot\;Segoe UI Historic&quot\;\, &quot\;Segoe UI&quot\;\, Helvetica\, Arial\, sans-serif\; color: rgb(8\, 8\, 9)\; font-size: 15px\;"><span style="font-size:20px\;">This event is 21 &amp\; Up and tickets are $45<br class="html-br" />\nMessage the page or text 512-762-4132 to register to attend</span></div>\n
LOCATION:Highland Acres Homestead 2875 Rocking M Ln Belton\, TX 76513
UID:e.300.18201
SEQUENCE:3
DTSTAMP:20260421T212310Z
URL:https://business.beltonchamber.com/events/details/wine-tasting-party-with-beemarosa-and-highland-acres-homestead-18201
END:VEVENT

END:VCALENDAR
