BEGIN:VCALENDAR
VERSION:2.0
PRODID:-//ChamberMaster//Event Calendar 2.0//EN
METHOD:PUBLISH
X-PUBLISHED-TTL:P3D
REFRESH-INTERVAL:P3D
CALSCALE:GREGORIAN
BEGIN:VEVENT
DTSTART:20210530T155500Z
DTEND:20210530T170000Z
X-MICROSOFT-CDO-ALLDAYEVENT:FALSE
SUMMARY:Worship at FPC Belton
DESCRIPTION:
X-ALT-DESC;FMTTYPE=text/html:
LOCATION:
UID:e.300.13300
SEQUENCE:3
DTSTAMP:20260421T124020Z
URL:https://business.beltonchamber.com/events/details/worship-at-fpc-belton-05-30-2021-13300
END:VEVENT

END:VCALENDAR
