BEGIN:VCALENDAR
VERSION:2.0
PRODID:-//ChamberMaster//Event Calendar 2.0//EN
METHOD:PUBLISH
X-PUBLISHED-TTL:P3D
REFRESH-INTERVAL:P3D
CALSCALE:GREGORIAN
BEGIN:VEVENT
DTSTART:20251025T140000Z
DTEND:20251025T160000Z
X-MICROSOFT-CDO-ALLDAYEVENT:FALSE
SUMMARY:Zombie Run
DESCRIPTION:$30 for Adults & $15 for Students/Military\n\nSign up to participate at https://runsignup.com/race/tx/belton/NewTechZombieRun
X-ALT-DESC;FMTTYPE=text/html:$30 for Adults &amp\; $15 for Students/Military<br />\nSign up to participate at https://runsignup.com/race/tx/belton/NewTechZombieRun
LOCATION:700 Veterans Way Belton\, TX
UID:e.300.19724
SEQUENCE:3
DTSTAMP:20260421T105710Z
URL:https://business.beltonchamber.com/events/details/zombie-run-19724
END:VEVENT

END:VCALENDAR
